BEGIN:VCALENDAR
VERSION:2.0
PRODID:-//Gaptones - ECPv6.15.20//NONSGML v1.0//EN
CALSCALE:GREGORIAN
METHOD:PUBLISH
X-WR-CALNAME:Gaptones
X-ORIGINAL-URL:https://gaptones.ch
X-WR-CALDESC:Veranstaltungen für Gaptones
REFRESH-INTERVAL;VALUE=DURATION:PT1H
X-Robots-Tag:noindex
X-PUBLISHED-TTL:PT1H
BEGIN:VTIMEZONE
TZID:Europe/Zurich
BEGIN:DAYLIGHT
TZOFFSETFROM:+0100
TZOFFSETTO:+0200
TZNAME:CEST
DTSTART:20150329T010000
END:DAYLIGHT
BEGIN:STANDARD
TZOFFSETFROM:+0200
TZOFFSETTO:+0100
TZNAME:CET
DTSTART:20151025T010000
END:STANDARD
BEGIN:DAYLIGHT
TZOFFSETFROM:+0100
TZOFFSETTO:+0200
TZNAME:CEST
DTSTART:20160327T010000
END:DAYLIGHT
BEGIN:STANDARD
TZOFFSETFROM:+0200
TZOFFSETTO:+0100
TZNAME:CET
DTSTART:20161030T010000
END:STANDARD
BEGIN:DAYLIGHT
TZOFFSETFROM:+0100
TZOFFSETTO:+0200
TZNAME:CEST
DTSTART:20170326T010000
END:DAYLIGHT
BEGIN:STANDARD
TZOFFSETFROM:+0200
TZOFFSETTO:+0100
TZNAME:CET
DTSTART:20171029T010000
END:STANDARD
BEGIN:DAYLIGHT
TZOFFSETFROM:+0100
TZOFFSETTO:+0200
TZNAME:CEST
DTSTART:20180325T010000
END:DAYLIGHT
BEGIN:STANDARD
TZOFFSETFROM:+0200
TZOFFSETTO:+0100
TZNAME:CET
DTSTART:20181028T010000
END:STANDARD
BEGIN:DAYLIGHT
TZOFFSETFROM:+0100
TZOFFSETTO:+0200
TZNAME:CEST
DTSTART:20190331T010000
END:DAYLIGHT
BEGIN:STANDARD
TZOFFSETFROM:+0200
TZOFFSETTO:+0100
TZNAME:CET
DTSTART:20191027T010000
END:STANDARD
BEGIN:DAYLIGHT
TZOFFSETFROM:+0100
TZOFFSETTO:+0200
TZNAME:CEST
DTSTART:20200329T010000
END:DAYLIGHT
BEGIN:STANDARD
TZOFFSETFROM:+0200
TZOFFSETTO:+0100
TZNAME:CET
DTSTART:20201025T010000
END:STANDARD
BEGIN:DAYLIGHT
TZOFFSETFROM:+0100
TZOFFSETTO:+0200
TZNAME:CEST
DTSTART:20210328T010000
END:DAYLIGHT
BEGIN:STANDARD
TZOFFSETFROM:+0200
TZOFFSETTO:+0100
TZNAME:CET
DTSTART:20211031T010000
END:STANDARD
BEGIN:DAYLIGHT
TZOFFSETFROM:+0100
TZOFFSETTO:+0200
TZNAME:CEST
DTSTART:20220327T010000
END:DAYLIGHT
BEGIN:STANDARD
TZOFFSETFROM:+0200
TZOFFSETTO:+0100
TZNAME:CET
DTSTART:20221030T010000
END:STANDARD
BEGIN:DAYLIGHT
TZOFFSETFROM:+0100
TZOFFSETTO:+0200
TZNAME:CEST
DTSTART:20230326T010000
END:DAYLIGHT
BEGIN:STANDARD
TZOFFSETFROM:+0200
TZOFFSETTO:+0100
TZNAME:CET
DTSTART:20231029T010000
END:STANDARD
BEGIN:DAYLIGHT
TZOFFSETFROM:+0100
TZOFFSETTO:+0200
TZNAME:CEST
DTSTART:20240331T010000
END:DAYLIGHT
BEGIN:STANDARD
TZOFFSETFROM:+0200
TZOFFSETTO:+0100
TZNAME:CET
DTSTART:20241027T010000
END:STANDARD
BEGIN:DAYLIGHT
TZOFFSETFROM:+0100
TZOFFSETTO:+0200
TZNAME:CEST
DTSTART:20250330T010000
END:DAYLIGHT
BEGIN:STANDARD
TZOFFSETFROM:+0200
TZOFFSETTO:+0100
TZNAME:CET
DTSTART:20251026T010000
END:STANDARD
BEGIN:DAYLIGHT
TZOFFSETFROM:+0100
TZOFFSETTO:+0200
TZNAME:CEST
DTSTART:20260329T010000
END:DAYLIGHT
BEGIN:STANDARD
TZOFFSETFROM:+0200
TZOFFSETTO:+0100
TZNAME:CET
DTSTART:20261025T010000
END:STANDARD
END:VTIMEZONE
BEGIN:VEVENT
DTSTART;VALUE=DATE:20250903
DTEND;VALUE=DATE:20250904
DTSTAMP:20260424T172109
CREATED:20240911T094802Z
LAST-MODIFIED:20241016T175222Z
UID:483-1756857600-1756943999@gaptones.ch
SUMMARY:Seegarten Allensbach
DESCRIPTION:
URL:https://gaptones.ch/event/seegarten-allensbach-9/
LOCATION:Seegarten\, Strandweg 2\, Allensbach\, 78476\, Deutschland
END:VEVENT
BEGIN:VEVENT
DTSTART;VALUE=DATE:20250524
DTEND;VALUE=DATE:20250525
DTSTAMP:20260424T172109
CREATED:20240529T214135Z
LAST-MODIFIED:20240529T214205Z
UID:475-1748044800-1748131199@gaptones.ch
SUMMARY:More Than Sounds
DESCRIPTION:
URL:https://gaptones.ch/event/more-than-sounds/
LOCATION:Restaurant Rössli\, Webereistrasse 49\, Adliswil\, 8134\, Schweiz
END:VEVENT
BEGIN:VEVENT
DTSTART;VALUE=DATE:20240928
DTEND;VALUE=DATE:20240929
DTSTAMP:20260424T172109
CREATED:20240505T182748Z
LAST-MODIFIED:20240505T182748Z
UID:415-1727481600-1727567999@gaptones.ch
SUMMARY:22yrs Gaptones!
DESCRIPTION:
URL:https://gaptones.ch/event/22yrs-gaptones/
LOCATION:Z88\, Löwenstrasse 6\, Kreuzlingen\, 8280\, Switzerland
END:VEVENT
BEGIN:VEVENT
DTSTART;VALUE=DATE:20240905
DTEND;VALUE=DATE:20240906
DTSTAMP:20260424T172109
CREATED:20240211T122920Z
LAST-MODIFIED:20240211T122920Z
UID:412-1725494400-1725580799@gaptones.ch
SUMMARY:Seegarten Allensbach
DESCRIPTION:
URL:https://gaptones.ch/event/seegarten-allensbach-8/
LOCATION:Seegarten\, Strandweg 2\, Allensbach\, 78476\, Deutschland
END:VEVENT
BEGIN:VEVENT
DTSTART;VALUE=DATE:20240629
DTEND;VALUE=DATE:20240630
DTSTAMP:20260424T172109
CREATED:20240505T183145Z
LAST-MODIFIED:20240529T180913Z
UID:417-1719619200-1719705599@gaptones.ch
SUMMARY:Verschoben: Funk im Birkenhof\, Wuppenau
DESCRIPTION:Wegen Regen vom 1. Juni auf den 29. Juni verschoben\nEintritt frei\nAb 19:30 Grill & Drinks
URL:https://gaptones.ch/event/funk-im-birkenhof-wuppenau/
LOCATION:Funk im Birkenhof\, Hof Rieser\, Wuppenau\, 9514\, Schweiz
END:VEVENT
BEGIN:VEVENT
DTSTART;VALUE=DATE:20230907
DTEND;VALUE=DATE:20230908
DTSTAMP:20260424T172109
CREATED:20221127T181823Z
LAST-MODIFIED:20221127T182117Z
UID:398-1694044800-1694131199@gaptones.ch
SUMMARY:Seegarten Allensbach
DESCRIPTION:Allensbach Umsonst & Draussen
URL:https://gaptones.ch/event/seegarten-allensbach-7/
LOCATION:Seegarten\, Strandweg 2\, Allensbach\, 78476\, Deutschland
END:VEVENT
BEGIN:VEVENT
DTSTART;VALUE=DATE:20230825
DTEND;VALUE=DATE:20230826
DTSTAMP:20260424T172109
CREATED:20221127T181728Z
LAST-MODIFIED:20221127T181728Z
UID:396-1692921600-1693007999@gaptones.ch
SUMMARY:Jazzmeile Kreuzlingen
DESCRIPTION:
URL:https://gaptones.ch/event/jazzmeile-kreuzlingen-3/
LOCATION:Jazzmeile Kreuzlingen\, Hauptstrasse\, Kreuzlingen\, 8280\, Schweiz
END:VEVENT
BEGIN:VEVENT
DTSTART;TZID=Europe/Zurich:20221104T190000
DTEND;TZID=Europe/Zurich:20221104T223000
DTSTAMP:20260424T172109
CREATED:20220224T085435Z
LAST-MODIFIED:20220224T085435Z
UID:364-1667588400-1667601000@gaptones.ch
SUMMARY:Jazznight Rorschach
DESCRIPTION:
URL:https://gaptones.ch/event/jazznight-rorschach/
LOCATION:Kleberei Rorschach
END:VEVENT
BEGIN:VEVENT
DTSTART;TZID=Europe/Zurich:20220929T200000
DTEND;TZID=Europe/Zurich:20220929T220000
DTSTAMP:20260424T172109
CREATED:20220322T092300Z
LAST-MODIFIED:20220322T092300Z
UID:367-1664481600-1664488800@gaptones.ch
SUMMARY:WEGA Weinfelden
DESCRIPTION:
URL:https://gaptones.ch/event/wega-weinfelden-3/
LOCATION:WEGA\, Weinfelden\, 8570\, Schweiz
END:VEVENT
BEGIN:VEVENT
DTSTART;TZID=Europe/Zurich:20220818T160000
DTEND;TZID=Europe/Zurich:20220818T220000
DTSTAMP:20260424T172109
CREATED:20220620T204338Z
LAST-MODIFIED:20220620T204418Z
UID:387-1660838400-1660860000@gaptones.ch
SUMMARY:RaifVibes
DESCRIPTION:Zuerst Nadja und Fabian im Duo\, anschliessend Gaptones \nRaifVibes
URL:https://gaptones.ch/event/raifvibes/
LOCATION:Wängi\, Wängi\, 9545\, Schweiz
END:VEVENT
BEGIN:VEVENT
DTSTART;TZID=Europe/Zurich:20220702T190000
DTEND;TZID=Europe/Zurich:20220702T200000
DTSTAMP:20260424T172109
CREATED:20220222T214410Z
LAST-MODIFIED:20220620T204632Z
UID:362-1656788400-1656792000@gaptones.ch
SUMMARY:Stadtfest Kreuzlingen
DESCRIPTION:Wir spielen auf der TKB-Bühne am Stadtfäscht Kreuzlingen.
URL:https://gaptones.ch/event/stadtfest-kreuzlingen/
END:VEVENT
BEGIN:VEVENT
DTSTART;VALUE=DATE:20200924
DTEND;VALUE=DATE:20200925
DTSTAMP:20260424T172109
CREATED:20200214T155830Z
LAST-MODIFIED:20200602T073243Z
UID:333-1600905600-1600991999@gaptones.ch
SUMMARY:Abgesagt: WEGA Weinfelden
DESCRIPTION:
URL:https://gaptones.ch/event/wega-weinfelden-2/
LOCATION:WEGA\, Weinfelden\, 8570\, Schweiz
END:VEVENT
BEGIN:VEVENT
DTSTART;VALUE=DATE:20200905
DTEND;VALUE=DATE:20200906
DTSTAMP:20260424T172109
CREATED:20200703T063746Z
LAST-MODIFIED:20200703T063851Z
UID:348-1599264000-1599350399@gaptones.ch
SUMMARY:Z88 Kreuzlingen
DESCRIPTION:
URL:https://gaptones.ch/event/z88/
LOCATION:Z88\, Löwenstrasse 6\, Kreuzlingen\, 8280\, Switzerland
END:VEVENT
BEGIN:VEVENT
DTSTART;VALUE=DATE:20200609
DTEND;VALUE=DATE:20200610
DTSTAMP:20260424T172109
CREATED:20200208T094226Z
LAST-MODIFIED:20200530T092201Z
UID:331-1591660800-1591747199@gaptones.ch
SUMMARY:Abgesagt: Seegarten Allensbach
DESCRIPTION:
URL:https://gaptones.ch/event/seegarten-allensbach-6/
LOCATION:Seegarten\, Strandweg 2\, Allensbach\, 78476\, Deutschland
END:VEVENT
BEGIN:VEVENT
DTSTART;VALUE=DATE:20200515
DTEND;VALUE=DATE:20200516
DTSTAMP:20260424T172109
CREATED:20191212T112629Z
LAST-MODIFIED:20200428T131952Z
UID:324-1589500800-1589587199@gaptones.ch
SUMMARY:Abgesagt: K9 Konstanz
DESCRIPTION:
URL:https://gaptones.ch/event/k9-konstanz-3/
LOCATION:Kulturzentrum K9\, Hieronymusgasse 3\, Konstanz\, 78462\, Deutschland
END:VEVENT
BEGIN:VEVENT
DTSTART;VALUE=DATE:20200430
DTEND;VALUE=DATE:20200501
DTSTAMP:20260424T172109
CREATED:20191212T113013Z
LAST-MODIFIED:20200329T110500Z
UID:326-1588204800-1588291199@gaptones.ch
SUMMARY:Abgesagt: Wyfelder Fritig
DESCRIPTION:Webseite Wyfelder Fritig \nWir spielen bei Madörin Früchte und Gemüse an der Thomas Bornhauserstrasse. \nVeranstaltet durch 8570 Jazzclub.
URL:https://gaptones.ch/event/wyfelder-fritig/
LOCATION:Madörin Früchte und Gemüse\, Thomas Bornhauserstrasse\, Weinfelden\, 8570\, Schweiz
END:VEVENT
BEGIN:VEVENT
DTSTART;VALUE=DATE:20190831
DTEND;VALUE=DATE:20190901
DTSTAMP:20260424T172109
CREATED:20190514T074800Z
LAST-MODIFIED:20190514T074800Z
UID:233-1567209600-1567295999@gaptones.ch
SUMMARY:Jazzmeile Kreuzlingen
DESCRIPTION:
URL:https://gaptones.ch/event/jazzmeile-kreuzlingen-2/
LOCATION:Jazzmeile Kreuzlingen\, Hauptstrasse\, Kreuzlingen\, 8280\, Schweiz
END:VEVENT
BEGIN:VEVENT
DTSTART;VALUE=DATE:20190622
DTEND;VALUE=DATE:20190623
DTSTAMP:20260424T172109
CREATED:20181207T110034Z
LAST-MODIFIED:20190612T070617Z
UID:182-1561161600-1561247999@gaptones.ch
SUMMARY:Dorffest Wängi
DESCRIPTION:20.00 Atlantis Bigband\n22.30 Feuerwerk\n23.00 Gaptones
URL:https://gaptones.ch/event/dorffest-waengi/
LOCATION:Wängi\, Wängi\, 9545\, Schweiz
END:VEVENT
BEGIN:VEVENT
DTSTART;VALUE=DATE:20190613
DTEND;VALUE=DATE:20190614
DTSTAMP:20260424T172109
CREATED:20181114T183507Z
LAST-MODIFIED:20181114T183507Z
UID:179-1560384000-1560470399@gaptones.ch
SUMMARY:Seegarten Allensbach
DESCRIPTION:
URL:https://gaptones.ch/event/seegarten-allensbach-5/
LOCATION:Seegarten\, Strandweg 2\, Allensbach\, 78476\, Deutschland
END:VEVENT
BEGIN:VEVENT
DTSTART;VALUE=DATE:20181103
DTEND;VALUE=DATE:20181104
DTSTAMP:20260424T172109
CREATED:20180601T064759Z
LAST-MODIFIED:20200703T063848Z
UID:176-1541203200-1541289599@gaptones.ch
SUMMARY:Z88 Kreuzlingen
DESCRIPTION:
URL:https://gaptones.ch/event/z88-kreuzlingen-3/
LOCATION:Z88\, Löwenstrasse 6\, Kreuzlingen\, 8280\, Switzerland
END:VEVENT
BEGIN:VEVENT
DTSTART;TZID=Europe/Zurich:20180829T193000
DTEND;TZID=Europe/Zurich:20180829T193000
DTSTAMP:20260424T172109
CREATED:20170830T213433Z
LAST-MODIFIED:20170830T213513Z
UID:132-1535571000-1535571000@gaptones.ch
SUMMARY:Seegarten Allensbach
DESCRIPTION:
URL:https://gaptones.ch/event/seegarten-allensbach-4/
LOCATION:Seegarten\, Strandweg 2\, Allensbach\, 78476\, Deutschland
END:VEVENT
BEGIN:VEVENT
DTSTART;VALUE=DATE:20180427
DTEND;VALUE=DATE:20180428
DTSTAMP:20260424T172109
CREATED:20171231T120813Z
LAST-MODIFIED:20171231T120849Z
UID:143-1524787200-1524873599@gaptones.ch
SUMMARY:Groove Club Rheinau
DESCRIPTION:
URL:https://gaptones.ch/event/groove-club-rheinau/
LOCATION:Groove Club\, Klosterplatz 2\, Rheinau\, 8462\, Schweiz
END:VEVENT
BEGIN:VEVENT
DTSTART;VALUE=DATE:20171202
DTEND;VALUE=DATE:20171203
DTSTAMP:20260424T172109
CREATED:20170219T161657Z
LAST-MODIFIED:20170219T162034Z
UID:107-1512172800-1512259199@gaptones.ch
SUMMARY:15 Yrs Gaptones @ Ska Altnau
DESCRIPTION:
URL:https://gaptones.ch/event/15-yrs-gaptones-ska-altnau/
LOCATION:S-ka\, Güttingerstrasse 1\, Altnau\, 8595\, Schweiz
END:VEVENT
BEGIN:VEVENT
DTSTART;VALUE=DATE:20170908
DTEND;VALUE=DATE:20170909
DTSTAMP:20260424T172109
CREATED:20170214T123822Z
LAST-MODIFIED:20170214T123822Z
UID:105-1504828800-1504915199@gaptones.ch
SUMMARY:K9 Konstanz
DESCRIPTION:
URL:https://gaptones.ch/event/k9-konstanz-2/
LOCATION:Kulturzentrum K9\, Hieronymusgasse 3\, Konstanz\, 78462\, Deutschland
END:VEVENT
BEGIN:VEVENT
DTSTART;TZID=Europe/Zurich:20170830T193000
DTEND;TZID=Europe/Zurich:20170830T193000
DTSTAMP:20260424T172109
CREATED:20160908T140640Z
LAST-MODIFIED:20160908T140640Z
UID:98-1504121400-1504121400@gaptones.ch
SUMMARY:Seegarten Allensbach
DESCRIPTION:
URL:https://gaptones.ch/event/seegarten-allensbach-3/
LOCATION:Seegarten\, Strandweg 2\, Allensbach\, 78476\, Deutschland
END:VEVENT
BEGIN:VEVENT
DTSTART;VALUE=DATE:20170818
DTEND;VALUE=DATE:20170819
DTSTAMP:20260424T172109
CREATED:20170425T154343Z
LAST-MODIFIED:20170425T154343Z
UID:114-1503014400-1503100799@gaptones.ch
SUMMARY:30 Jahre Jack's Weinfelden
DESCRIPTION:
URL:https://gaptones.ch/event/30-jahre-jacks-weinfelden/
LOCATION:Jack’s Café\, Bahnhofstrasse 1\, Weinfelden\, 8570\, Schweiz
END:VEVENT
BEGIN:VEVENT
DTSTART;VALUE=DATE:20170708
DTEND;VALUE=DATE:20170709
DTSTAMP:20260424T172109
CREATED:20170516T195714Z
LAST-MODIFIED:20170605T100228Z
UID:119-1499472000-1499558399@gaptones.ch
SUMMARY:Strassenfest Amriswil (Contest)
DESCRIPTION:
URL:https://gaptones.ch/event/strassenfest-amriswil-contest/
LOCATION:Strassenfest Amriswil\, Amriswil\, 8580\, Schweiz
END:VEVENT
BEGIN:VEVENT
DTSTART;VALUE=DATE:20170513
DTEND;VALUE=DATE:20170514
DTSTAMP:20260424T172109
CREATED:20170407T174211Z
LAST-MODIFIED:20170407T174211Z
UID:111-1494633600-1494719999@gaptones.ch
SUMMARY:S-Ka Altnau @ Vorrunde Rüttelhütte Contest
DESCRIPTION:Vorrunde Rüttelhütte Bandcontest
URL:https://gaptones.ch/event/s-ka-altnau-vorrunde-ruettelhuette-contest/
LOCATION:S-ka\, Güttingerstrasse 1\, Altnau\, 8595\, Schweiz
END:VEVENT
BEGIN:VEVENT
DTSTART;TZID=Europe/Zurich:20170422T200000
DTEND;TZID=Europe/Zurich:20170422T200000
DTSTAMP:20260424T172109
CREATED:20161113T124509Z
LAST-MODIFIED:20161113T124509Z
UID:101-1492891200-1492891200@gaptones.ch
SUMMARY:Z88 Kreuzlingen
DESCRIPTION:
URL:https://gaptones.ch/event/z88-kreuzlingen-2/
LOCATION:Z88\, Löwenstrasse 6\, Kreuzlingen\, 8280\, Switzerland
END:VEVENT
BEGIN:VEVENT
DTSTART;TZID=Europe/Zurich:20160929T200000
DTEND;TZID=Europe/Zurich:20160929T200000
DTSTAMP:20260424T172109
CREATED:20160404T183024Z
LAST-MODIFIED:20160404T183051Z
UID:86-1475179200-1475179200@gaptones.ch
SUMMARY:WEGA Weinfelden
DESCRIPTION:
URL:https://gaptones.ch/event/wega-weinfelden/
LOCATION:WEGA\, Weinfelden\, 8570\, Schweiz
END:VEVENT
END:VCALENDAR